BEGIN:VCALENDAR
VERSION:2.0
PRODID:spatie/icalendar-generator
BEGIN:VTIMEZONE
TZID:UTC
BEGIN:STANDARD
DTSTART:20250728T004432
TZOFFSETFROM:+0000
TZOFFSETTO:+0000
END:STANDARD
END:VTIMEZONE
BEGIN:VEVENT
UID:69eabcf0e9aa2
DTSTAMP:20260424T004432Z
SUMMARY:Leonardo da Vinci – Erfindungen erleben
DTSTART:20261030T100000Z
DTEND:20261030T100000Z
END:VEVENT
END:VCALENDAR