BEGIN:VCALENDAR
VERSION:2.0
PRODID:spatie/icalendar-generator
BEGIN:VTIMEZONE
TZID:UTC
BEGIN:STANDARD
DTSTART:20250726T063941
TZOFFSETFROM:+0000
TZOFFSETTO:+0000
END:STANDARD
END:VTIMEZONE
BEGIN:VEVENT
UID:69e86d2d0986b
DTSTAMP:20260422T063941Z
SUMMARY:Leonardo da Vinci – Erfindungen erleben
DTSTART:20261027T100000Z
DTEND:20261027T100000Z
END:VEVENT
END:VCALENDAR