BEGIN:VCALENDAR
VERSION:2.0
PRODID:spatie/icalendar-generator
BEGIN:VTIMEZONE
TZID:UTC
BEGIN:STANDARD
DTSTART:20250728T004331
TZOFFSETFROM:+0000
TZOFFSETTO:+0000
END:STANDARD
END:VTIMEZONE
BEGIN:VEVENT
UID:69eabcb3b580e
DTSTAMP:20260424T004331Z
SUMMARY:Leonardo da Vinci – Erfindungen erleben
DTSTART:20261021T090000Z
DTEND:20261021T090000Z
END:VEVENT
END:VCALENDAR