BEGIN:VCALENDAR
VERSION:2.0
PRODID:spatie/icalendar-generator
BEGIN:VTIMEZONE
TZID:UTC
BEGIN:STANDARD
DTSTART:20250726T070805
TZOFFSETFROM:+0000
TZOFFSETTO:+0000
END:STANDARD
END:VTIMEZONE
BEGIN:VEVENT
UID:69e873d5004c4
DTSTAMP:20260422T070805Z
SUMMARY:Leonardo da Vinci – Erfindungen erleben
DTSTART:20261014T090000Z
DTEND:20261014T090000Z
END:VEVENT
END:VCALENDAR