BEGIN:VCALENDAR
VERSION:2.0
PRODID:spatie/icalendar-generator
BEGIN:VTIMEZONE
TZID:UTC
BEGIN:STANDARD
DTSTART:20250726T070302
TZOFFSETFROM:+0000
TZOFFSETTO:+0000
END:STANDARD
END:VTIMEZONE
BEGIN:VEVENT
UID:69e872a682893
DTSTAMP:20260422T070302Z
SUMMARY:Zu Gast: Der Leica Oskar Barnack Award
DTSTART:20260614T080000Z
DTEND:20260614T080000Z
END:VEVENT
END:VCALENDAR