BEGIN:VCALENDAR
VERSION:2.0
PRODID:spatie/icalendar-generator
BEGIN:VTIMEZONE
TZID:UTC
BEGIN:STANDARD
DTSTART:20250728T033014
TZOFFSETFROM:+0000
TZOFFSETTO:+0000
END:STANDARD
END:VTIMEZONE
BEGIN:VEVENT
UID:69eae3c6bd696
DTSTAMP:20260424T033014Z
SUMMARY:Zu Gast: Der Leica Oskar Barnack Award
DTSTART:20260506T080000Z
DTEND:20260506T080000Z
END:VEVENT
END:VCALENDAR