BEGIN:VCALENDAR
VERSION:2.0
PRODID:spatie/icalendar-generator
BEGIN:VTIMEZONE
TZID:UTC
BEGIN:STANDARD
DTSTART:20250728T045155
TZOFFSETFROM:+0000
TZOFFSETTO:+0000
END:STANDARD
END:VTIMEZONE
BEGIN:VEVENT
UID:69eaf6eb15d28
DTSTAMP:20260424T045155Z
SUMMARY:Schamanen Sibiriens - Zwischen den Welten
DTSTART:20270227T090000Z
DTEND:20270227T090000Z
END:VEVENT
END:VCALENDAR