BEGIN:VCALENDAR
VERSION:2.0
PRODID:spatie/icalendar-generator
BEGIN:VTIMEZONE
TZID:UTC
BEGIN:STANDARD
DTSTART:20250726T115810
TZOFFSETFROM:+0000
TZOFFSETTO:+0000
END:STANDARD
END:VTIMEZONE
BEGIN:VEVENT
UID:69e8b7d2d98d0
DTSTAMP:20260422T115810Z
SUMMARY:Schamanen Sibiriens - Zwischen den Welten
DTSTART:20270218T090000Z
DTEND:20270218T090000Z
END:VEVENT
END:VCALENDAR