BEGIN:VCALENDAR
VERSION:2.0
PRODID:spatie/icalendar-generator
BEGIN:VTIMEZONE
TZID:UTC
BEGIN:STANDARD
DTSTART:20250726T150214
TZOFFSETFROM:+0000
TZOFFSETTO:+0000
END:STANDARD
END:VTIMEZONE
BEGIN:VEVENT
UID:69e8e2f6a6535
DTSTAMP:20260422T150214Z
SUMMARY:Schamanen Sibiriens - Zwischen den Welten
DTSTART:20270110T090000Z
DTEND:20270110T090000Z
END:VEVENT
END:VCALENDAR