BEGIN:VCALENDAR
VERSION:2.0
PRODID:spatie/icalendar-generator
BEGIN:VTIMEZONE
TZID:UTC
BEGIN:STANDARD
DTSTART:20250726T150154
TZOFFSETFROM:+0000
TZOFFSETTO:+0000
END:STANDARD
END:VTIMEZONE
BEGIN:VEVENT
UID:69e8e2e2232fd
DTSTAMP:20260422T150154Z
SUMMARY:Schamanen Sibiriens - Zwischen den Welten
DTSTART:20270108T090000Z
DTEND:20270108T090000Z
END:VEVENT
END:VCALENDAR