BEGIN:VCALENDAR
VERSION:2.0
PRODID:spatie/icalendar-generator
BEGIN:VTIMEZONE
TZID:UTC
BEGIN:STANDARD
DTSTART:20250726T191155
TZOFFSETFROM:+0000
TZOFFSETTO:+0000
END:STANDARD
END:VTIMEZONE
BEGIN:VEVENT
UID:69e91d7baec15
DTSTAMP:20260422T191155Z
SUMMARY:Schamanen Sibiriens - Zwischen den Welten
DTSTART:20270106T090000Z
DTEND:20270106T090000Z
END:VEVENT
END:VCALENDAR