BEGIN:VCALENDAR
VERSION:2.0
PRODID:spatie/icalendar-generator
BEGIN:VTIMEZONE
TZID:UTC
BEGIN:STANDARD
DTSTART:20250728T122429
TZOFFSETFROM:+0000
TZOFFSETTO:+0000
END:STANDARD
END:VTIMEZONE
BEGIN:VEVENT
UID:69eb60fd57568
DTSTAMP:20260424T122429Z
SUMMARY:MusikWelten
DTSTART:20270219T090000Z
DTEND:20270219T090000Z
END:VEVENT
END:VCALENDAR