BEGIN:VCALENDAR
VERSION:2.0
PRODID:spatie/icalendar-generator
BEGIN:VTIMEZONE
TZID:UTC
BEGIN:STANDARD
DTSTART:20250727T013018
TZOFFSETFROM:+0000
TZOFFSETTO:+0000
END:STANDARD
END:VTIMEZONE
BEGIN:VEVENT
UID:69e9762adfc63
DTSTAMP:20260423T013018Z
SUMMARY:Ägypten - Land der Unsterblichkeit
DTSTART:20270213T090000Z
DTEND:20270213T090000Z
END:VEVENT
END:VCALENDAR