BEGIN:VCALENDAR
VERSION:2.0
PRODID:spatie/icalendar-generator
BEGIN:VTIMEZONE
TZID:UTC
BEGIN:STANDARD
DTSTART:20250727T013120
TZOFFSETFROM:+0000
TZOFFSETTO:+0000
END:STANDARD
END:VTIMEZONE
BEGIN:VEVENT
UID:69e9766883b6b
DTSTAMP:20260423T013120Z
SUMMARY:Ägypten - Land der Unsterblichkeit
DTSTART:20270212T090000Z
DTEND:20270212T090000Z
END:VEVENT
END:VCALENDAR