BEGIN:VCALENDAR
VERSION:2.0
PRODID:spatie/icalendar-generator
BEGIN:VTIMEZONE
TZID:UTC
BEGIN:STANDARD
DTSTART:20250728T212821
TZOFFSETFROM:+0000
TZOFFSETTO:+0000
END:STANDARD
END:VTIMEZONE
BEGIN:VEVENT
UID:69ebe0757d988
DTSTAMP:20260424T212821Z
SUMMARY:Ägypten - Land der Unsterblichkeit
DTSTART:20270209T090000Z
DTEND:20270209T090000Z
END:VEVENT
END:VCALENDAR