BEGIN:VCALENDAR
VERSION:2.0
PRODID:spatie/icalendar-generator
BEGIN:VTIMEZONE
TZID:UTC
BEGIN:STANDARD
DTSTART:20250728T212810
TZOFFSETFROM:+0000
TZOFFSETTO:+0000
END:STANDARD
END:VTIMEZONE
BEGIN:VEVENT
UID:69ebe06a7c916
DTSTAMP:20260424T212810Z
SUMMARY:Ägypten - Land der Unsterblichkeit
DTSTART:20270207T090000Z
DTEND:20270207T090000Z
END:VEVENT
END:VCALENDAR