BEGIN:VCALENDAR
VERSION:2.0
PRODID:spatie/icalendar-generator
BEGIN:VTIMEZONE
TZID:UTC
BEGIN:STANDARD
DTSTART:20250727T050606
TZOFFSETFROM:+0000
TZOFFSETTO:+0000
END:STANDARD
END:VTIMEZONE
BEGIN:VEVENT
UID:69e9a8be4545e
DTSTAMP:20260423T050606Z
SUMMARY:Ägypten - Land der Unsterblichkeit
DTSTART:20270129T090000Z
DTEND:20270129T090000Z
END:VEVENT
END:VCALENDAR