BEGIN:VCALENDAR
VERSION:2.0
PRODID:spatie/icalendar-generator
BEGIN:VTIMEZONE
TZID:UTC
BEGIN:STANDARD
DTSTART:20250727T025420
TZOFFSETFROM:+0000
TZOFFSETTO:+0000
END:STANDARD
END:VTIMEZONE
BEGIN:VEVENT
UID:69e989dcb5f1e
DTSTAMP:20260423T025420Z
SUMMARY:Ägypten - Land der Unsterblichkeit
DTSTART:20270119T090000Z
DTEND:20270119T090000Z
END:VEVENT
END:VCALENDAR