BEGIN:VCALENDAR
VERSION:2.0
PRODID:spatie/icalendar-generator
BEGIN:VTIMEZONE
TZID:UTC
BEGIN:STANDARD
DTSTART:20250728T230011
TZOFFSETFROM:+0000
TZOFFSETTO:+0000
END:STANDARD
END:VTIMEZONE
BEGIN:VEVENT
UID:69ebf5fbc0aea
DTSTAMP:20260424T230011Z
SUMMARY:Ägypten - Land der Unsterblichkeit
DTSTART:20270115T090000Z
DTEND:20270115T090000Z
END:VEVENT
END:VCALENDAR