BEGIN:VCALENDAR
VERSION:2.0
PRODID:spatie/icalendar-generator
BEGIN:VTIMEZONE
TZID:UTC
BEGIN:STANDARD
DTSTART:20250728T230053
TZOFFSETFROM:+0000
TZOFFSETTO:+0000
END:STANDARD
END:VTIMEZONE
BEGIN:VEVENT
UID:69ebf62598fc1
DTSTAMP:20260424T230053Z
SUMMARY:Ägypten - Land der Unsterblichkeit
DTSTART:20270112T090000Z
DTEND:20270112T090000Z
END:VEVENT
END:VCALENDAR