BEGIN:VCALENDAR
VERSION:2.0
PRODID:spatie/icalendar-generator
BEGIN:VTIMEZONE
TZID:UTC
BEGIN:STANDARD
DTSTART:20250727T062232
TZOFFSETFROM:+0000
TZOFFSETTO:+0000
END:STANDARD
END:VTIMEZONE
BEGIN:VEVENT
UID:69e9baa87b7a5
DTSTAMP:20260423T062232Z
SUMMARY:Ägypten - Land der Unsterblichkeit
DTSTART:20270106T090000Z
DTEND:20270106T090000Z
END:VEVENT
END:VCALENDAR