BEGIN:VCALENDAR
VERSION:2.0
PRODID:spatie/icalendar-generator
BEGIN:VTIMEZONE
TZID:UTC
BEGIN:STANDARD
DTSTART:20250725T030618
TZOFFSETFROM:+0000
TZOFFSETTO:+0000
END:STANDARD
END:VTIMEZONE
BEGIN:VEVENT
UID:69e6e9aae3aed
DTSTAMP:20260421T030618Z
SUMMARY:Smartphone-Sprechstunde für Senior*innen in Seckenheim
DTSTART:20260506T080000Z
DTEND:20260506T080000Z
END:VEVENT
END:VCALENDAR