BEGIN:VCALENDAR
VERSION:2.0
PRODID:spatie/icalendar-generator
BEGIN:VTIMEZONE
TZID:UTC
BEGIN:STANDARD
DTSTART:20250725T113835
TZOFFSETFROM:+0000
TZOFFSETTO:+0000
END:STANDARD
END:VTIMEZONE
BEGIN:VEVENT
UID:69e761bb323e1
DTSTAMP:20260421T113835Z
SUMMARY:Öffentliche Führung durch MAEMORIES
DTSTART:20261004T120000Z
DTEND:20261004T140000Z
END:VEVENT
END:VCALENDAR