BEGIN:VCALENDAR
VERSION:2.0
PRODID:spatie/icalendar-generator
BEGIN:VTIMEZONE
TZID:UTC
BEGIN:STANDARD
DTSTART:20250725T113834
TZOFFSETFROM:+0000
TZOFFSETTO:+0000
END:STANDARD
END:VTIMEZONE
BEGIN:VEVENT
UID:69e761babd34b
DTSTAMP:20260421T113834Z
SUMMARY:Öffentliche Führung durch die NS-Ausstellung
DTSTART:20261004T140000Z
DTEND:20261004T150000Z
END:VEVENT
END:VCALENDAR