BEGIN:VCALENDAR
VERSION:2.0
PRODID:spatie/icalendar-generator
BEGIN:VTIMEZONE
TZID:UTC
BEGIN:STANDARD
DTSTART:20250725T112157
TZOFFSETFROM:+0000
TZOFFSETTO:+0000
END:STANDARD
END:VTIMEZONE
BEGIN:VEVENT
UID:69e75dd5e40cf
DTSTAMP:20260421T112157Z
SUMMARY:Acid Night
DTSTART:20260425T210000Z
DTEND:20260426T030000Z
END:VEVENT
END:VCALENDAR