BEGIN:VCALENDAR
VERSION:2.0
PRODID:spatie/icalendar-generator
BEGIN:VTIMEZONE
TZID:UTC
BEGIN:STANDARD
DTSTART:20250725T113208
TZOFFSETFROM:+0000
TZOFFSETTO:+0000
END:STANDARD
END:VTIMEZONE
BEGIN:VEVENT
UID:69e7603851bb8
DTSTAMP:20260421T113208Z
SUMMARY:B00GAL00 KLUB - FUNKY SOUL & SWINGING SIXTIES
DTSTART:20260424T180000Z
DTEND:20260425T010000Z
END:VEVENT
END:VCALENDAR