BEGIN:VCALENDAR
VERSION:2.0
PRODID:spatie/icalendar-generator
BEGIN:VTIMEZONE
TZID:UTC
BEGIN:STANDARD
DTSTART:20250725T234729
TZOFFSETFROM:+0000
TZOFFSETTO:+0000
END:STANDARD
END:VTIMEZONE
BEGIN:VEVENT
UID:69e80c91bf291
DTSTAMP:20260421T234729Z
SUMMARY:Emil und die Detektive (7+)
DTSTART:20260422T090000Z
DTEND:20260422T090000Z
END:VEVENT
END:VCALENDAR