BEGIN:VCALENDAR
VERSION:2.0
PRODID:spatie/icalendar-generator
BEGIN:VTIMEZONE
TZID:UTC
BEGIN:STANDARD
DTSTART:20250725T170301
TZOFFSETFROM:+0000
TZOFFSETTO:+0000
END:STANDARD
END:VTIMEZONE
BEGIN:VEVENT
UID:69e7adc58a742
DTSTAMP:20260421T170301Z
SUMMARY:Frederic Hormuth Quatsch – Kabarett mit Songs
DTSTART:20260912T180000Z
DTEND:20260912T180000Z
END:VEVENT
END:VCALENDAR