BEGIN:VCALENDAR
VERSION:2.0
PRODID:spatie/icalendar-generator
BEGIN:VTIMEZONE
TZID:UTC
BEGIN:STANDARD
DTSTART:20250729T125536
TZOFFSETFROM:+0000
TZOFFSETTO:+0000
END:STANDARD
END:VTIMEZONE
BEGIN:VEVENT
UID:69ecb9c870161
DTSTAMP:20260425T125536Z
SUMMARY:STUDIO: Camie Klein
DTSTART:20260625T080000Z
DTEND:20260625T080000Z
END:VEVENT
END:VCALENDAR