BEGIN:VCALENDAR
VERSION:2.0
PRODID:spatie/icalendar-generator
BEGIN:VTIMEZONE
TZID:UTC
BEGIN:STANDARD
DTSTART:20250727T185642
TZOFFSETFROM:+0000
TZOFFSETTO:+0000
END:STANDARD
END:VTIMEZONE
BEGIN:VEVENT
UID:69ea6b6a7a084
DTSTAMP:20260423T185642Z
SUMMARY:STUDIO: Camie Klein
DTSTART:20260611T080000Z
DTEND:20260611T080000Z
END:VEVENT
END:VCALENDAR