BEGIN:VCALENDAR
VERSION:2.0
PRODID:spatie/icalendar-generator
BEGIN:VTIMEZONE
TZID:UTC
BEGIN:STANDARD
DTSTART:20250729T153351
TZOFFSETFROM:+0000
TZOFFSETTO:+0000
END:STANDARD
END:VTIMEZONE
BEGIN:VEVENT
UID:69ecdedfdd42c
DTSTAMP:20260425T153351Z
SUMMARY:Schamanen Sibiriens - Zwischen den Welten
DTSTART:20261205T090000Z
DTEND:20261205T090000Z
END:VEVENT
END:VCALENDAR