BEGIN:VCALENDAR
VERSION:2.0
PRODID:spatie/icalendar-generator
BEGIN:VTIMEZONE
TZID:UTC
BEGIN:STANDARD
DTSTART:20250729T160302
TZOFFSETFROM:+0000
TZOFFSETTO:+0000
END:STANDARD
END:VTIMEZONE
BEGIN:VEVENT
UID:69ece5b63bfba
DTSTAMP:20260425T160302Z
SUMMARY:Schamanen Sibiriens - Zwischen den Welten
DTSTART:20261203T090000Z
DTEND:20261203T090000Z
END:VEVENT
END:VCALENDAR