BEGIN:VCALENDAR
VERSION:2.0
PRODID:spatie/icalendar-generator
BEGIN:VTIMEZONE
TZID:UTC
BEGIN:STANDARD
DTSTART:20250729T170439
TZOFFSETFROM:+0000
TZOFFSETTO:+0000
END:STANDARD
END:VTIMEZONE
BEGIN:VEVENT
UID:69ecf427a5c2e
DTSTAMP:20260425T170439Z
SUMMARY:Schamanen Sibiriens - Zwischen den Welten
DTSTART:20261121T090000Z
DTEND:20261121T090000Z
END:VEVENT
END:VCALENDAR