BEGIN:VCALENDAR
VERSION:2.0
PRODID:spatie/icalendar-generator
BEGIN:VTIMEZONE
TZID:UTC
BEGIN:STANDARD
DTSTART:20250729T170543
TZOFFSETFROM:+0000
TZOFFSETTO:+0000
END:STANDARD
END:VTIMEZONE
BEGIN:VEVENT
UID:69ecf467b10ef
DTSTAMP:20260425T170543Z
SUMMARY:Schamanen Sibiriens - Zwischen den Welten
DTSTART:20261120T090000Z
DTEND:20261120T090000Z
END:VEVENT
END:VCALENDAR