BEGIN:VCALENDAR
VERSION:2.0
PRODID:spatie/icalendar-generator
BEGIN:VTIMEZONE
TZID:UTC
BEGIN:STANDARD
DTSTART:20250729T174302
TZOFFSETFROM:+0000
TZOFFSETTO:+0000
END:STANDARD
END:VTIMEZONE
BEGIN:VEVENT
UID:69ecfd26112f1
DTSTAMP:20260425T174302Z
SUMMARY:Schamanen Sibiriens - Zwischen den Welten
DTSTART:20261108T090000Z
DTEND:20261108T090000Z
END:VEVENT
END:VCALENDAR