BEGIN:VCALENDAR
VERSION:2.0
PRODID:spatie/icalendar-generator
BEGIN:VTIMEZONE
TZID:UTC
BEGIN:STANDARD
DTSTART:20250727T231921
TZOFFSETFROM:+0000
TZOFFSETTO:+0000
END:STANDARD
END:VTIMEZONE
BEGIN:VEVENT
UID:69eaa8f9ea593
DTSTAMP:20260423T231921Z
SUMMARY:Schamanen Sibiriens - Zwischen den Welten
DTSTART:20261031T090000Z
DTEND:20261031T090000Z
END:VEVENT
END:VCALENDAR