BEGIN:VCALENDAR
VERSION:2.0
PRODID:spatie/icalendar-generator
BEGIN:VTIMEZONE
TZID:UTC
BEGIN:STANDARD
DTSTART:20250727T231930
TZOFFSETFROM:+0000
TZOFFSETTO:+0000
END:STANDARD
END:VTIMEZONE
BEGIN:VEVENT
UID:69eaa902c7adf
DTSTAMP:20260423T231930Z
SUMMARY:Schamanen Sibiriens - Zwischen den Welten
DTSTART:20261029T090000Z
DTEND:20261029T090000Z
END:VEVENT
END:VCALENDAR