BEGIN:VCALENDAR
VERSION:2.0
PRODID:spatie/icalendar-generator
BEGIN:VTIMEZONE
TZID:UTC
BEGIN:STANDARD
DTSTART:20250727T231804
TZOFFSETFROM:+0000
TZOFFSETTO:+0000
END:STANDARD
END:VTIMEZONE
BEGIN:VEVENT
UID:69eaa8ac8b537
DTSTAMP:20260423T231804Z
SUMMARY:Schamanen Sibiriens - Zwischen den Welten
DTSTART:20261024T080000Z
DTEND:20261024T080000Z
END:VEVENT
END:VCALENDAR