BEGIN:VCALENDAR
VERSION:2.0
PRODID:spatie/icalendar-generator
BEGIN:VTIMEZONE
TZID:UTC
BEGIN:STANDARD
DTSTART:20250729T191409
TZOFFSETFROM:+0000
TZOFFSETTO:+0000
END:STANDARD
END:VTIMEZONE
BEGIN:VEVENT
UID:69ed1281666dd
DTSTAMP:20260425T191409Z
SUMMARY:Schamanen Sibiriens - Zwischen den Welten
DTSTART:20261016T080000Z
DTEND:20261016T080000Z
END:VEVENT
END:VCALENDAR