BEGIN:VCALENDAR
VERSION:2.0
PRODID:spatie/icalendar-generator
BEGIN:VTIMEZONE
TZID:UTC
BEGIN:STANDARD
DTSTART:20250728T005601
TZOFFSETFROM:+0000
TZOFFSETTO:+0000
END:STANDARD
END:VTIMEZONE
BEGIN:VEVENT
UID:69eabfa1a466a
DTSTAMP:20260424T005601Z
SUMMARY:Schamanen Sibiriens - Zwischen den Welten
DTSTART:20261006T080000Z
DTEND:20261006T080000Z
END:VEVENT
END:VCALENDAR