BEGIN:VCALENDAR
VERSION:2.0
PRODID:spatie/icalendar-generator
BEGIN:VTIMEZONE
TZID:UTC
BEGIN:STANDARD
DTSTART:20250728T004428
TZOFFSETFROM:+0000
TZOFFSETTO:+0000
END:STANDARD
END:VTIMEZONE
BEGIN:VEVENT
UID:69eabcec3a432
DTSTAMP:20260424T004428Z
SUMMARY:Schamanen Sibiriens - Zwischen den Welten
DTSTART:20261002T080000Z
DTEND:20261002T080000Z
END:VEVENT
END:VCALENDAR