BEGIN:VCALENDAR
VERSION:2.0
PRODID:spatie/icalendar-generator
BEGIN:VTIMEZONE
TZID:UTC
BEGIN:STANDARD
DTSTART:20250728T004542
TZOFFSETFROM:+0000
TZOFFSETTO:+0000
END:STANDARD
END:VTIMEZONE
BEGIN:VEVENT
UID:69eabd3618328
DTSTAMP:20260424T004542Z
SUMMARY:Schamanen Sibiriens - Zwischen den Welten
DTSTART:20261001T080000Z
DTEND:20261001T080000Z
END:VEVENT
END:VCALENDAR