BEGIN:VCALENDAR
VERSION:2.0
PRODID:spatie/icalendar-generator
BEGIN:VTIMEZONE
TZID:UTC
BEGIN:STANDARD
DTSTART:20250729T005522
TZOFFSETFROM:+0000
TZOFFSETTO:+0000
END:STANDARD
END:VTIMEZONE
BEGIN:VEVENT
UID:69ec10fad5a1c
DTSTAMP:20260425T005522Z
SUMMARY:Schamanen Sibiriens - Zwischen den Welten
DTSTART:20260927T080000Z
DTEND:20260927T080000Z
END:VEVENT
END:VCALENDAR