BEGIN:VCALENDAR
VERSION:2.0
PRODID:spatie/icalendar-generator
BEGIN:VTIMEZONE
TZID:UTC
BEGIN:STANDARD
DTSTART:20250729T022359
TZOFFSETFROM:+0000
TZOFFSETTO:+0000
END:STANDARD
END:VTIMEZONE
BEGIN:VEVENT
UID:69ec25bff1721
DTSTAMP:20260425T022359Z
SUMMARY:Schamanen Sibiriens - Zwischen den Welten
DTSTART:20260922T080000Z
DTEND:20260922T080000Z
END:VEVENT
END:VCALENDAR