BEGIN:VCALENDAR
VERSION:2.0
PRODID:spatie/icalendar-generator
BEGIN:VTIMEZONE
TZID:UTC
BEGIN:STANDARD
DTSTART:20250729T022236
TZOFFSETFROM:+0000
TZOFFSETTO:+0000
END:STANDARD
END:VTIMEZONE
BEGIN:VEVENT
UID:69ec256c05500
DTSTAMP:20260425T022236Z
SUMMARY:La vie moderne – Grafiken von Manet bis Picasso
DTSTART:20260710T080000Z
DTEND:20260710T080000Z
END:VEVENT
END:VCALENDAR