BEGIN:VCALENDAR
VERSION:2.0
PRODID:spatie/icalendar-generator
BEGIN:VTIMEZONE
TZID:UTC
BEGIN:STANDARD
DTSTART:20250729T022343
TZOFFSETFROM:+0000
TZOFFSETTO:+0000
END:STANDARD
END:VTIMEZONE
BEGIN:VEVENT
UID:69ec25af2f4ff
DTSTAMP:20260425T022343Z
SUMMARY:La vie moderne – Grafiken von Manet bis Picasso
DTSTART:20260707T080000Z
DTEND:20260707T080000Z
END:VEVENT
END:VCALENDAR