BEGIN:VCALENDAR
VERSION:2.0
PRODID:spatie/icalendar-generator
BEGIN:VTIMEZONE
TZID:UTC
BEGIN:STANDARD
DTSTART:20250729T035753
TZOFFSETFROM:+0000
TZOFFSETTO:+0000
END:STANDARD
END:VTIMEZONE
BEGIN:VEVENT
UID:69ec3bc1c685b
DTSTAMP:20260425T035753Z
SUMMARY:MusikWelten
DTSTART:20261215T090000Z
DTEND:20261215T090000Z
END:VEVENT
END:VCALENDAR