BEGIN:VCALENDAR
VERSION:2.0
PRODID:spatie/icalendar-generator
BEGIN:VTIMEZONE
TZID:UTC
BEGIN:STANDARD
DTSTART:20250729T103620
TZOFFSETFROM:+0000
TZOFFSETTO:+0000
END:STANDARD
END:VTIMEZONE
BEGIN:VEVENT
UID:69ec99246b8be
DTSTAMP:20260425T103620Z
SUMMARY:MusikWelten
DTSTART:20261024T080000Z
DTEND:20261024T080000Z
END:VEVENT
END:VCALENDAR