BEGIN:VCALENDAR
VERSION:2.0
PRODID:spatie/icalendar-generator
BEGIN:VTIMEZONE
TZID:UTC
BEGIN:STANDARD
DTSTART:20250729T102703
TZOFFSETFROM:+0000
TZOFFSETTO:+0000
END:STANDARD
END:VTIMEZONE
BEGIN:VEVENT
UID:69ec96f719532
DTSTAMP:20260425T102703Z
SUMMARY:MusikWelten
DTSTART:20261023T080000Z
DTEND:20261023T080000Z
END:VEVENT
END:VCALENDAR