BEGIN:VCALENDAR
VERSION:2.0
PRODID:spatie/icalendar-generator
BEGIN:VTIMEZONE
TZID:UTC
BEGIN:STANDARD
DTSTART:20250729T103621
TZOFFSETFROM:+0000
TZOFFSETTO:+0000
END:STANDARD
END:VTIMEZONE
BEGIN:VEVENT
UID:69ec9925055b6
DTSTAMP:20260425T103621Z
SUMMARY:MusikWelten
DTSTART:20261021T080000Z
DTEND:20261021T080000Z
END:VEVENT
END:VCALENDAR